BEGIN:VCALENDAR
VERSION:2.0
PRODID:-//ChamberMaster//Event Calendar 2.0//EN
METHOD:PUBLISH
X-PUBLISHED-TTL:P3D
REFRESH-INTERVAL:P3D
CALSCALE:GREGORIAN
BEGIN:VEVENT
DTSTART:20181114T160000Z
DTEND:20181114T173000Z
X-MICROSOFT-CDO-ALLDAYEVENT:FALSE
SUMMARY:Sold Out -Networking Breakfast 3.0 - The Bicycle Hotel & Casino
DESCRIPTION:Sold Out-Networking Breakfast 3.0 - The Bicycle Hotel & Casino\n\nJoin the staff\, members and guests of FOUR Chambers of Commerce-Montebello\, Commerce Industrial Council\, Bell Gardens\, and Pico Rivera\, for a morning networking event featuring a full breakfast\, raffle prizes and presentation.
X-ALT-DESC;FMTTYPE=text/html:<strong>Sold Out-Networking Breakfast 3.0 - The Bicycle Hotel &amp\; Casino</strong><br />\nJoin the staff\, members and guests of FOUR Chambers of Commerce-Montebello\, Commerce Industrial Council\, Bell Gardens\, and Pico Rivera\, for a morning networking event featuring a full breakfast\, raffle prizes and presentation.
LOCATION:The Bicycle Hotel & Casino 888 Bicycle Casino Drive Bell Gardens\, CA 90201
UID:e.1156.2868
SEQUENCE:3
DTSTAMP:20260419T143648Z
URL:https://www.montebellochamber.org/events/details/sold-out-networking-breakfast-3-0-the-bicycle-hotel-casino-2868
END:VEVENT

END:VCALENDAR
