BEGIN:VCALENDAR
VERSION:2.0
PRODID:-//ChamberMaster//Event Calendar 2.0//EN
METHOD:PUBLISH
X-PUBLISHED-TTL:P3D
REFRESH-INTERVAL:P3D
CALSCALE:GREGORIAN
BEGIN:VEVENT
DTSTART:20141010T003000Z
DTEND:20141010T030000Z
X-MICROSOFT-CDO-ALLDAYEVENT:FALSE
SUMMARY:Soroptimist 9th Annual Pink Shawl Walk
DESCRIPTION:Join Soroptimist International of Montebello in raising breast cancer awareness at the 9th annual PINK SHAWL WALK.  Registration will begin at 5:00 p.m. at the steps of Montebello City Hall.  A $5 donation is requested per walker.  The first 300 registered participants will receive a reusable tote bag.  The walk will start from the steps of City Hall\, 1600W. Beverly Blvd. and finish at the Montebello Senior Center located at Montebello City Park\, 115 S. Taylor Ave.  Refreshments will be served.  Information on breast cancer prevention and nutrition will be available.  For your convenience Shuttle Service is available.  Park your car at City Park and catch the shuttle no later than 5:30 p.m.  The shuttle will bring you to City Hall where you will begin the walk.  At the conclusion of the walk you will be at City Park where your car is located.
X-ALT-DESC;FMTTYPE=text/html:Join Soroptimist International of Montebello in raising breast cancer awareness at the 9th annual PINK SHAWL WALK.&nbsp\; Registration will begin at 5:00 p.m. at the steps of Montebello City Hall.&nbsp\; A $5 donation is requested per walker.&nbsp\; The first 300 registered participants will receive a reusable tote bag.&nbsp\; The walk will start from the steps of City Hall\, 1600W. Beverly Blvd. and finish at the Montebello Senior Center located at Montebello City Park\, 115 S. Taylor Ave.&nbsp\; Refreshments will be served.&nbsp\; Information on breast cancer prevention and nutrition will be available.&nbsp\; For your convenience Shuttle Service is available.&nbsp\; Park your car at City Park and catch the shuttle no later than 5:30 p.m.&nbsp\; The shuttle will bring you to City Hall where you will begin the walk.&nbsp\; At the conclusion of the walk you will be at City Park where your car is located.
LOCATION:Montebello City Hall\, 1600 W. Beverly Blvd.
UID:e.1156.1090
SEQUENCE:3
DTSTAMP:20260419T130433Z
URL:https://www.montebellochamber.org/events/details/soroptimist-9th-annual-pink-shawl-walk-10-09-2014-1090
END:VEVENT

END:VCALENDAR
