BEGIN:VCALENDAR
VERSION:2.0
PRODID:-//ChamberMaster//Event Calendar 2.0//EN
METHOD:PUBLISH
X-PUBLISHED-TTL:P3D
REFRESH-INTERVAL:P3D
CALSCALE:GREGORIAN
BEGIN:VEVENT
DTSTART:20190205T000000Z
DTEND:20190205T040000Z
X-MICROSOFT-CDO-ALLDAYEVENT:FALSE
SUMMARY:Soroptimist International of Montebello Fundraiser
DESCRIPTION:Soroptimist International of Montebello will have a Chipotle fundraiser to benefit the Live Your Dream Awards program.  \n\n\n\nCome in to the Chipotle and bring the flyer\, show it on your smartphone\, or tell the cashier you're suppporting the cause and to make sure that 33% of the proceeds will be donated to Soroptimist International of Montebello.  Eat in or take it to go!\n\n\n\nLive Your Dream is a movement fiercely dedicated to ensuring every woman and girl has the opportunity to reach her full potential\, live free from violence\, and of course\, live her dreams.
X-ALT-DESC;FMTTYPE=text/html:Soroptimist International of Montebello will have a Chipotle fundraiser to benefit the Live Your Dream Awards program.&nbsp\;&nbsp\;<br />\n<br />\nCome in to the Chipotle and bring the flyer\, show it on your smartphone\, or tell the cashier you&#39\;re suppporting the cause and to make sure that 33% of the proceeds will be donated to Soroptimist International of Montebello.&nbsp\; Eat in or take it to go!<br />\n<br />\nLive Your Dream is a movement fiercely dedicated to ensuring every woman and girl has the opportunity to reach her full potential\, live free from violence\, and of course\, live her dreams.
LOCATION:Chipotle Mexican Grill 545 N. Montebello Blvd. - Suite B Montebello\, CA 90640
UID:e.1156.3158
SEQUENCE:3
DTSTAMP:20260419T130628Z
URL:https://www.montebellochamber.org/events/details/soroptimist-international-of-montebello-fundraiser-3158
END:VEVENT

END:VCALENDAR
