BEGIN:VCALENDAR
VERSION:2.0
PRODID:-//ChamberMaster//Event Calendar 2.0//EN
METHOD:PUBLISH
X-PUBLISHED-TTL:P3D
REFRESH-INTERVAL:P3D
CALSCALE:GREGORIAN
BEGIN:VEVENT
DTSTART:20190305T010000Z
DTEND:20190305T030000Z
X-MICROSOFT-CDO-ALLDAYEVENT:FALSE
SUMMARY:Soroptimist-LIVE YOUR DREAM AWARD CELEBRATION
DESCRIPTION:Montebello Soroptimist Celebrating Live Your Dream Award!!!  Join us as we honor our incredible women recipients. \n\n-Appetizers\, desserts & drinks\, raffles & fun!!
X-ALT-DESC;FMTTYPE=text/html:Montebello Soroptimist Celebrating Live Your Dream Award!!!&nbsp\; Join us as we honor our incredible women recipients.&nbsp\;<br />\n-Appetizers\, desserts &amp\; drinks\, raffles &amp\; fun!!&nbsp\;
LOCATION:Maxima Expression Salon 712 W. Whittier Blvd. Montebello\, CA 90640
UID:e.1156.3241
SEQUENCE:3
DTSTAMP:20260420T142832Z
URL:https://www.montebellochamber.org/events/details/soroptimist-live-your-dream-award-celebration-3241
END:VEVENT

END:VCALENDAR
