BEGIN:VCALENDAR
VERSION:2.0
PRODID:-//ChamberMaster//Event Calendar 2.0//EN
METHOD:PUBLISH
X-PUBLISHED-TTL:P3D
REFRESH-INTERVAL:P3D
CALSCALE:GREGORIAN
BEGIN:VEVENT
DTSTART:20200124T023000Z
DTEND:20200124T043000Z
X-MICROSOFT-CDO-ALLDAYEVENT:FALSE
SUMMARY:Soroptimist-Stop Human Trafficking
DESCRIPTION:Stop Human Trafficking!  Soroptimist Internantional of Montebello is doing their part in ending modern day slavery! Human Trafficking Exists!  It's the 2nd most profitable form of transnational crime.
X-ALT-DESC;FMTTYPE=text/html:Stop Human Trafficking!&nbsp\; Soroptimist Internantional of Montebello is doing their part in ending modern day slavery! Human Trafficking Exists!&nbsp\; It&#39\;s the 2nd most profitable form of transnational crime.&nbsp\;
LOCATION:201 S. Park Ave. Montebello\, CA 90640
UID:e.1156.3558
SEQUENCE:3
DTSTAMP:20260419T130127Z
URL:https://www.montebellochamber.org/events/details/soroptimist-stop-human-trafficking-3558
END:VEVENT

END:VCALENDAR
