BEGIN:VCALENDAR
VERSION:2.0
PRODID:-//ChamberMaster//Event Calendar 2.0//EN
METHOD:PUBLISH
X-PUBLISHED-TTL:P3D
REFRESH-INTERVAL:P3D
CALSCALE:GREGORIAN
BEGIN:VEVENT
DTSTART:20200603T220000Z
DTEND:20200603T233000Z
X-MICROSOFT-CDO-ALLDAYEVENT:FALSE
SUMMARY:SPANISH-L.A.Supervisor Hilda L. Solis Reopening Webinar
DESCRIPTION:Seminario Web:  Recuperacion economica para negocios del Condado de Los Angeles.  (Los Angeles County Supervisor Hilda L. Solis)
X-ALT-DESC;FMTTYPE=text/html:Seminario Web:&nbsp\; Recuperacion economica para negocios del Condado de Los Angeles.&nbsp\; (Los Angeles County Supervisor Hilda L. Solis)
LOCATION:Seminario Web
UID:e.1156.3699
SEQUENCE:3
DTSTAMP:20260419T160224Z
URL:https://www.montebellochamber.org/events/details/spanish-l-a-supervisor-hilda-l-solis-reopening-webinar-3699
END:VEVENT

END:VCALENDAR
