BEGIN:VCALENDAR
VERSION:2.0
PRODID:-//ChamberMaster//Event Calendar 2.0//EN
METHOD:PUBLISH
X-PUBLISHED-TTL:P3D
REFRESH-INTERVAL:P3D
CALSCALE:GREGORIAN
BEGIN:VEVENT
DTSTART:20180325T010000Z
DTEND:20180325T063000Z
X-MICROSOFT-CDO-ALLDAYEVENT:FALSE
SUMMARY:Special Event at Stevens Steak House
DESCRIPTION:JOIN STEVENS STEAK HOUSE:\n\n\n\nRay Carrion & Thee Latin All-Stars tribute to Latin soul legend Ralfi Pagan\n\nBirthday celebration for Ray Carrion\n\nKing of Latin soul Joe Bataan\n\nComedy by Monique Marvez\n\nAll ages welcome\n\nDoors open at 6pm\, show starts at 8pm\n\nAdmissions includes buffet - from 6pm - 8pm only\n\nVIP reserved seating: $50\n\nGeneral admission: $40
X-ALT-DESC;FMTTYPE=text/html:JOIN STEVENS STEAK HOUSE:<br />\n<br />\nRay Carrion &amp\; Thee Latin All-Stars tribute to Latin soul legend Ralfi&nbsp\;Pagan<br />\nBirthday celebration for Ray Carrion<br />\nKing of Latin soul Joe Bataan<br />\nComedy by Monique Marvez<br />\nAll ages welcome<br />\nDoors open at 6pm\, show starts at 8pm<br />\nAdmissions includes buffet - from 6pm - 8pm only<br />\nVIP reserved seating: $50<br />\nGeneral admission: $40
LOCATION:Stevens Steak House 5223 E. Stevens Pl. Commerce\, CA 90040
UID:e.1156.2456
SEQUENCE:3
DTSTAMP:20260419T130435Z
URL:https://www.montebellochamber.org/events/details/special-event-at-stevens-steak-house-03-24-2018-2456
END:VEVENT

END:VCALENDAR
