BEGIN:VCALENDAR
VERSION:2.0
PRODID:-//ChamberMaster//Event Calendar 2.0//EN
METHOD:PUBLISH
X-PUBLISHED-TTL:P3D
REFRESH-INTERVAL:P3D
CALSCALE:GREGORIAN
BEGIN:VEVENT
DTSTART:20130508T143000Z
DTEND:20130508T163000Z
X-MICROSOFT-CDO-ALLDAYEVENT:FALSE
SUMMARY:Speed Networking Breakfast 3.0 - El Cafetalito Restaurant
DESCRIPTION:Speed Networking Breakfast 3.0\n\nCome to expand your professional connections\, build profitable relationships and get the opportunity to gather client referrals and leads.  Give your business and your morning a boost!\n\n\n\nHosted and Sponsored by El Cafetalito Restaurant\n\n\n\nParticipating Chambers:\n\nMontebello Chamber of Commerce\, East L.A. Chamber of Commerce\, and Commerce Industrial Council Chamber of Commerce
X-ALT-DESC;FMTTYPE=text/html:<strong><span style="color: rgb(0\, 0\, 255)\;">Speed</span> Networking Breakfast 3.0</strong><br />\nCome to expand your professional connections\, build profitable relationships and get the opportunity to gather client referrals and leads.&nbsp\; Give your business and your morning a boost!<br />\n<br />\n<strong>Hosted and Sponsored by El Cafetalito Restaurant</strong><br />\n<br />\n<span style="color: rgb(178\, 34\, 34)\;"><strong>Participating Chambers:</strong></span><br />\n<strong>Montebello Chamber of Commerce\, East L.A. Chamber of Commerce\, and Commerce Industrial Council Chamber of Commerce</strong>
LOCATION:El Cafetalito Restaurant 5300 E. Washington Blvd.\, Commerce\, CA 90040
UID:e.1156.699
SEQUENCE:3
DTSTAMP:20260419T130525Z
URL:https://www.montebellochamber.org/events/details/speed-networking-breakfast-3-0-el-cafetalito-restaurant-05-08-2013-699
END:VEVENT

END:VCALENDAR
