BEGIN:VCALENDAR
VERSION:2.0
PRODID:-//ChamberMaster//Event Calendar 2.0//EN
METHOD:PUBLISH
X-PUBLISHED-TTL:P3D
REFRESH-INTERVAL:P3D
CALSCALE:GREGORIAN
BEGIN:VEVENT
DTSTART;VALUE=DATE:20150110
DTEND;VALUE=DATE:20150111
TRANSP:TRANSPARENT
X-MICROSOFT-CDO-ALLDAYEVENT:TRUE
SUMMARY:Spotlight on Montebello Newspaper Articles & Ads Deadline
DESCRIPTION:Montebello Spotlight on Montebello Newspaper is the only Montebello directed mailed newspaper. \n\n\n\nWith a circulation of 21\,000 to residents and businesses\, available to read online at www.montebellochamber.org homepage under "Spotlight Newspaper".\n\n\n\nThe newspaper is available for advertising\, informational articles\, and press releases. All content submitted for the newspaper must be in Microsoft Word and for photos in jpg. of at least 300 dpi. \n\n\n\nFor more information contact Erica Arellano(323) 721-1153 or email at erica@montebellochamber.org
X-ALT-DESC;FMTTYPE=text/html:<span style="font-family:verdana\;"><strong>Montebello Spotlight on Montebello Newspaper is the only Montebello directed mailed newspaper. </strong><br />\n<br />\nWith a circulation of 21\,000 to residents and businesses\, available to read online at www.montebellochamber.org homepage under &quot\;Spotlight Newspaper&quot\;.<br />\n<br />\nThe newspaper is available for advertising\, informational articles\, and press releases. All content submitted for the newspaper must be in Microsoft Word and for photos in jpg. of at least 300 dpi.&nbsp\;<br />\n<br />\nFor more information contact Erica Arellano(323) 721-1153 or email at erica@montebellochamber.org</span>
LOCATION:
UID:e.1156.1018
SEQUENCE:3
DTSTAMP:20260419T143421Z
URL:https://www.montebellochamber.org/events/details/spotlight-on-montebello-newspaper-articles-ads-deadline-01-10-2015-1018
END:VEVENT

END:VCALENDAR
