BEGIN:VCALENDAR
VERSION:2.0
PRODID:-//ChamberMaster//Event Calendar 2.0//EN
METHOD:PUBLISH
X-PUBLISHED-TTL:P3D
REFRESH-INTERVAL:P3D
CALSCALE:GREGORIAN
BEGIN:VEVENT
DTSTART;VALUE=DATE:20200110
DTEND;VALUE=DATE:20200111
TRANSP:TRANSPARENT
X-MICROSOFT-CDO-ALLDAYEVENT:TRUE
SUMMARY:Ad Deadline for Spotlight on Montebello
DESCRIPTION:The February/March 2020 issue of Spotlight on Montebello marks the newspaper's 20th year of publication!  In celebration\, this issue will feature a member-exclusive special theme\, "20-Twenty:" \n\n \n20-TWENTY: This special member-exclusive editorial will feature:\n\n\n	Businesses operating 20 YEARS or more\n	Businesses who have been Chamber members for 20 YEARS or more\n	Business owners who are aged 20 to 29 YEARS OLD\n	Business owners who have been partners or married to each other for 20 YEARS\n	Businesses with any other significant relationship to the number TWENTY (20+ locations\, 20+ employees\; etc.)\n\n\n \n\nThis issue is also a great time to spread the word about:\n\n\n	Valentine's Day specials\, venues\, gift ideas\; etc. \n	St. Patrick's Day events\, specials\; etc.\n	Tax preparation services\n	Planning Spring Break activities\, vacations & staycations\n	Booking Easter celebrations \n\n\nThe deadline for submissions is Friday\, January 10th so please reserve your space early.\n\n\n\n\nSpotlight on Montebello is a bi-monthly publication which is mailed and distributed to 15\,000 residents and businesses and available for viewing online. \n\n\n\nThe newspaper offers advertising opportunities and publishes informational articles and press releases of community interest.\n\n\n\nArticles must be submitted as Microsoft Word documents\; photos as JPG or TIFF files with a minimum resolution of 300 dpi\; and graphic ads must be submitted as print-ready PDF files. \n\n\n\nSubmission Deadlines:\n\nFebruary/March Issue - Deadline: January 10\n\nApril/May Issue - Deadline: March 10\n\nJune/July Issue - Deadline: May 10\n\nAugust/September Issue - Deadline: July 10\n\nOctober/November Issue - Deadline: September 10\n\nDecember/January Issue - Deadline: November 8\n\n\n\nClick here to see past issues \n\n\n\nFor more information\, contact Ani at (323) 721-1153 or email  advertising@montebellochamber.org
X-ALT-DESC;FMTTYPE=text/html:<span style="font-family:verdana\;"><span style="font-family:tahoma\;">The February/March 2020 issue of <em>Spotlight on Montebello</em> marks the newspaper&#39\;s 20th year of publication!<em>&nbsp\; In celebration\, this issue will feature a member-exclusive special theme\, &quot\;20-Twenty:&quot\; </em></span></span><br />\n&nbsp\;\n<div><span style="font-size:14px\;"><span style="color: rgb(171\, 10\, 10)\; text-decoration: underline\; font-style: italic\; font-weight: bold\;">20-TWENTY: This special member-exclusive editorial will feature:</span></span></div>\n\n<ul>\n	<li style="font-size: 16px\;"><span style="font-size:12px\;"><span style="font-weight: bold\;">Businesses operating 20 YEARS or more</span></span></li>\n	<li style="font-size: 16px\;"><span style="font-size:12px\;"><span style="font-weight: bold\;">Businesses who have been Chamber members for 20 YEARS or more</span></span></li>\n	<li style="font-size: 16px\;"><span style="font-size:12px\;"><span style="font-weight: bold\;">Business owners who are aged 20 to 29 YEARS OLD</span></span></li>\n	<li style="font-size: 16px\;"><span style="font-size:12px\;"><span style="font-weight: bold\;">Business owners who have been partners or married to each other for 20 YEARS</span></span></li>\n	<li style="font-size: 16px\;"><span style="font-size:12px\;"><span style="font-weight: bold\;">Businesses with any other significant relationship to the number TWENTY (20+ locations\, 20+ employees\; etc.)</span></span></li>\n</ul>\n\n<div>&nbsp\;</div>\n\n<div><span style="font-size:12px\;"><span style="color: rgb(171\, 10\, 10)\; text-decoration: underline\; font-weight: bold\; font-style: italic\;">This issue is also a great time to spread the word about:</span></span></div>\n\n<ul>\n	<li style="font-size: 16px\;"><span style="font-size:12px\;"><span style="font-weight: bold\;">Valentine&#39\;s Day specials\, venues\, gift ideas\; etc. </span></span></li>\n	<li style="font-size: 16px\;"><span style="font-size:12px\;"><span style="font-weight: bold\;">St. Patrick&#39\;s Day events\, specials\; etc.</span></span></li>\n	<li style="font-size: 16px\;"><span style="font-size:12px\;"><span style="font-weight: bold\;">Tax preparation services</span></span></li>\n	<li style="font-size: 16px\;"><span style="font-size:12px\;"><span style="font-weight: bold\;">Planning Spring Break activities\, vacations &amp\; staycations</span></span></li>\n	<li style="font-size: 16px\;"><span style="font-size:12px\;"><span style="font-weight: bold\;">Booking Easter celebrations </span></span></li>\n</ul>\n\n<div>The deadline for submissions is Friday\, January 10th so please reserve your space early.</div>\n<br />\n<br />\n<span style="font-family:verdana\;"><span style="font-family:tahoma\;"><em>Spotlight on Montebello </em>is a bi-monthly publication which is mailed and distributed to 15\,000 residents and businesses and available for viewing online. </span></span><br />\n<br />\n<span style="font-family:verdana\;"><span style="font-family:tahoma\;">The newspaper offers advertising opportunities and publishes informational articles and press releases of community interest.<br />\n<br />\nArticles must be submitted as Microsoft Word documents\; photos as JPG or TIFF files with a minimum resolution of 300 dpi\; and graphic ads must be submitted as print-ready PDF files.&nbsp\;<br />\n<br />\n<u><strong>Submission Deadlines:</strong></u><br />\nFebruary/March Issue - Deadline: January 10<br />\nApril/May Issue - Deadline: March 10<br />\nJune/July Issue - Deadline: May 10<br />\nAugust/September Issue - Deadline: July 10<br />\nOctober/November Issue - Deadline: September 10<br />\nDecember/January Issue - Deadline: November 8</span></span><br />\n<br />\n<a href="http://www.montebellochamber.org/pages/News" target="_blank">Click here to see past issues</a><span style="font-family:verdana\;"><span style="font-family:tahoma\;"> </span></span><br />\n<br />\n<span style="font-family:verdana\;"><span style="font-family:tahoma\;">For more information\, contact Ani at (323) 721-1153 or email&nbsp\; advertising@montebellochamber.org</span></span>
LOCATION:
UID:e.1156.1048
SEQUENCE:3
DTSTAMP:20260419T130533Z
URL:https://www.montebellochamber.org/events/details/spotlight-on-montebello-newspaper-articles-ads-deadline-01-10-2020-1048
END:VEVENT

END:VCALENDAR
