BEGIN:VCALENDAR
VERSION:2.0
PRODID:-//ChamberMaster//Event Calendar 2.0//EN
METHOD:PUBLISH
X-PUBLISHED-TTL:P3D
REFRESH-INTERVAL:P3D
CALSCALE:GREGORIAN
BEGIN:VEVENT
DTSTART;VALUE=DATE:20180305
DTEND;VALUE=DATE:20180306
TRANSP:TRANSPARENT
X-MICROSOFT-CDO-ALLDAYEVENT:TRUE
SUMMARY:Ad Deadline for Spotlight on Montebello
DESCRIPTION:Spotlight on Montebello is a bi-monthly publication which is mailed and distributed to 15\,000 residents and businesses and available for viewing online. \n\n\n\nThe newspaper offers advertising opportunities and publishes informational articles and press releases of community interest.\n\n\n\nArticles must be submitted as Microsoft Word documents\; photos as JPG or TIFF files with a minimum resolution of 300 dpi\; and graphic ads must be submitted as print-ready PDF files. \n\n\n\nSubmission Deadlines:\n\nFebruary/March Issue - Deadline: January 10\n\nApril/May Issue - Deadline: March 5\n\nJune/July Issue - Deadline: May 10\n\nAugust/September Issue - Deadline: July 10\n\nOctober/November Issue - Deadline: September 10\n\nDecember/January Issue - Deadline: November 10\n\n\n\nClick here to see past issues \n\n\n\nFor more information\, call (323) 721-1153 or email  advertising@montebellochamber.org
X-ALT-DESC;FMTTYPE=text/html:<span style="font-family:verdana\;"><span style="font-family:tahoma\;"><em>Spotlight on Montebello </em>is a bi-monthly publication which is mailed and distributed to 15\,000 residents and businesses and available for viewing online. </span></span><br />\n<br />\n<span style="font-family:verdana\;"><span style="font-family:tahoma\;">The newspaper offers advertising opportunities and publishes informational articles and press releases of community interest.<br />\n<br />\nArticles must be submitted as Microsoft Word documents\; photos as JPG or TIFF files with a minimum resolution of 300 dpi\; and graphic ads must be submitted as print-ready PDF files.&nbsp\;<br />\n<br />\n<u><strong>Submission Deadlines:</strong></u><br />\nFebruary/March Issue - Deadline: January 10<br />\nApril/May Issue - Deadline: March 5<br />\nJune/July Issue - Deadline: May 10<br />\nAugust/September Issue - Deadline: July 10<br />\nOctober/November Issue - Deadline: September 10<br />\nDecember/January Issue - Deadline: November 10</span></span><br />\n<br />\n<a href="http://www.montebellochamber.org/pages/News" target="_blank">Click here to see past issues</a><span style="font-family:verdana\;"><span style="font-family:tahoma\;"> </span></span><br />\n<br />\n<span style="font-family:verdana\;"><span style="font-family:tahoma\;">For more information\, call (323) 721-1153 or email&nbsp\; advertising@montebellochamber.org</span></span>
LOCATION:
UID:e.1156.1037
SEQUENCE:3
DTSTAMP:20260419T130529Z
URL:https://www.montebellochamber.org/events/details/spotlight-on-montebello-newspaper-articles-ads-deadline-03-10-2018-1037
END:VEVENT

END:VCALENDAR
