BEGIN:VCALENDAR
VERSION:2.0
PRODID:-//ChamberMaster//Event Calendar 2.0//EN
METHOD:PUBLISH
X-PUBLISHED-TTL:P3D
REFRESH-INTERVAL:P3D
CALSCALE:GREGORIAN
BEGIN:VEVENT
DTSTART;VALUE=DATE:20190225
DTEND;VALUE=DATE:20190226
TRANSP:TRANSPARENT
X-MICROSOFT-CDO-ALLDAYEVENT:TRUE
SUMMARY:Spring Basketball-City of Montebello
DESCRIPTION:SPRING BASKETBALL\n\nCity of Montebello Recreation and Community Services \n\nAAA Division 2001-2002\n\nAA Division 2003-2004\n\nA Division 2005-2006
X-ALT-DESC;FMTTYPE=text/html:<strong>SPRING BASKETBALL</strong><br />\nCity of Montebello Recreation and Community Services&nbsp\;<br />\nAAA Division 2001-2002<br />\nAA Division 2003-2004<br />\nA Division 2005-2006<br />\n&nbsp\;
LOCATION:Cathy Hensel Youth Center 236 George Hensel Drive Montebello\, CA 90640
UID:e.1156.3253
SEQUENCE:3
DTSTAMP:20260419T130735Z
URL:https://www.montebellochamber.org/events/details/spring-basketball-city-of-montebello-3253
END:VEVENT

END:VCALENDAR
