BEGIN:VCALENDAR
VERSION:2.0
PRODID:-//ChamberMaster//Event Calendar 2.0//EN
METHOD:PUBLISH
X-PUBLISHED-TTL:P3D
REFRESH-INTERVAL:P3D
CALSCALE:GREGORIAN
BEGIN:VEVENT
DTSTART:20190415T140000Z
DTEND:20190416T010000Z
X-MICROSOFT-CDO-ALLDAYEVENT:FALSE
SUMMARY:Spring Camp
DESCRIPTION:Campers will enjoy a week of fun with a variety of indoor & outdoor activities.  Arts & crafts and an entertaining field trip will be offered at an additional cost.  Snacks will be provided daily.
X-ALT-DESC;FMTTYPE=text/html:Campers will enjoy a week of fun with a variety of indoor &amp\; outdoor activities.&nbsp\; Arts &amp\; crafts and an entertaining field trip will be offered at an additional cost.&nbsp\; Snacks will be provided daily.&nbsp\;
LOCATION:Fremont Extended Childcare Bungalow 200 W. Madison Ave Montebello\, CA 90640 Site is located on 3rd Street
UID:e.1156.3264
SEQUENCE:3
DTSTAMP:20260419T143002Z
URL:https://www.montebellochamber.org/events/details/spring-camp-3264
END:VEVENT

END:VCALENDAR
