BEGIN:VCALENDAR
VERSION:2.0
PRODID:-//ChamberMaster//Event Calendar 2.0//EN
METHOD:PUBLISH
X-PUBLISHED-TTL:P3D
REFRESH-INTERVAL:P3D
CALSCALE:GREGORIAN
BEGIN:VEVENT
DTSTART:20160331T013000Z
DTEND:20160331T030000Z
X-MICROSOFT-CDO-ALLDAYEVENT:FALSE
SUMMARY:Spring Multi-Chamber Mixer
DESCRIPTION:Spring Multi-Chamber Mixer with Montebello Chamber of Commerce\, Commerce Industrial Council Chamber\, Latin Business Assoc.\, Rosemead Chamber\, and Temple City Chamber of Commerce.\n\n\n\nWine + Appetizers + Raffle
X-ALT-DESC;FMTTYPE=text/html:Spring Multi-Chamber Mixer with Montebello Chamber of Commerce\, Commerce Industrial Council Chamber\, Latin Business Assoc.\, Rosemead Chamber\, and Temple City Chamber of Commerce.<br />\n<br />\nWine + Appetizers + Raffle
LOCATION:Doubletree Hotel Rosemead 888 Montebello Blvd. Rosemead\, CA
UID:e.1156.1459
SEQUENCE:3
DTSTAMP:20260419T214358Z
URL:https://www.montebellochamber.org/events/details/spring-multi-chamber-mixer-03-30-2016-1459
END:VEVENT

END:VCALENDAR
