BEGIN:VCALENDAR
VERSION:2.0
PRODID:-//ChamberMaster//Event Calendar 2.0//EN
METHOD:PUBLISH
X-PUBLISHED-TTL:P3D
REFRESH-INTERVAL:P3D
CALSCALE:GREGORIAN
BEGIN:VEVENT
DTSTART:20140614T160000Z
DTEND:20140614T230000Z
X-MICROSOFT-CDO-ALLDAYEVENT:FALSE
SUMMARY:ST. BENEDICT CHURCH FLEA MARKET/BOUTIQUE/SWAPMEET
DESCRIPTION:FLEA MARKET/BOUTIQUE/SWAPMEET VENDORS WANTED NEW/USED ITEMS JEWELRY-ARTS&CRAFTS-COLLECTIBLES-ANTIQUES-HOUSEHOLD ITEMS-CLOTHES-TOYS-BOOKS-ELECTRONICS-TOOLS-FURNITURE-ETC.
X-ALT-DESC;FMTTYPE=text/html:FLEA MARKET/BOUTIQUE/SWAPMEET VENDORS WANTED NEW/USED ITEMS JEWELRY-ARTS&amp\;CRAFTS-COLLECTIBLES-ANTIQUES-HOUSEHOLD ITEMS-CLOTHES-TOYS-BOOKS-ELECTRONICS-TOOLS-FURNITURE-ETC.
LOCATION:ST. BENEDICT CHURCH 1022 WEST CLEVELAND MONTEBELLO 90640
UID:e.1156.1001
SEQUENCE:3
DTSTAMP:20260419T130920Z
URL:https://www.montebellochamber.org/events/details/st-benedict-church-flea-market-boutique-swapmeet-06-14-2014-1001
END:VEVENT

END:VCALENDAR
