BEGIN:VCALENDAR
VERSION:2.0
PRODID:-//ChamberMaster//Event Calendar 2.0//EN
METHOD:PUBLISH
X-PUBLISHED-TTL:P3D
REFRESH-INTERVAL:P3D
CALSCALE:GREGORIAN
BEGIN:VEVENT
DTSTART:20180317T210000Z
DTEND:20180318T065500Z
X-MICROSOFT-CDO-ALLDAYEVENT:FALSE
SUMMARY:St. Patty's Day Party
DESCRIPTION:The horse goes green for St. Patty's Day! \n\n\n\nHappy hour runs from 2pm-6pm. It'll be $1 off pints on select beers.\n\n\n\nWe've got Tortas Las Jarochitas pulling up in back at 5PM. They'll be serving up your mexican favorites. The special\, green enchilladas.\n\n\n\nThen at 8PM\, we kick off some live blues music with The Stems Blues Band. No cover.\n\n\n\nBring the whole family and your best green attire!
X-ALT-DESC;FMTTYPE=text/html:<span style="color: rgb(75\, 79\, 86)\; font-family: Helvetica\, Arial\, sans-serif\; font-size: 14px\;">The horse goes green for St. Patty&#39\;s Day!&nbsp\;</span><br style="color: rgb(75\, 79\, 86)\; font-family: Helvetica\, Arial\, sans-serif\; font-size: 14px\;" />\n<br style="color: rgb(75\, 79\, 86)\; font-family: Helvetica\, Arial\, sans-serif\; font-size: 14px\;" />\n<span style="color: rgb(75\, 79\, 86)\; font-family: Helvetica\, Arial\, sans-serif\; font-size: 14px\;">Happy hour runs from 2pm-6pm. It&#39\;ll be $1 off pints on select beers.</span><br style="color: rgb(75\, 79\, 86)\; font-family: Helvetica\, Arial\, sans-serif\; font-size: 14px\;" />\n<br style="color: rgb(75\, 79\, 86)\; font-family: Helvetica\, Arial\, sans-serif\; font-size: 14px\;" />\n<span style="color: rgb(75\, 79\, 86)\; font-family: Helvetica\, Arial\, sans-serif\; font-size: 14px\;">We&#39\;ve got&nbsp\;</span><a href="https://www.facebook.com/Tortas-Las-Jarochitas-890717407772424/" style="color: rgb(54\, 88\, 153)\; cursor: pointer\; text-decoration-line: none\; font-family: Helvetica\, Arial\, sans-serif\; font-size: 14px\;">Tortas Las Jarochitas</a><span style="color: rgb(75\, 79\, 86)\; font-family: Helvetica\, Arial\, sans-serif\; font-size: 14px\;">&nbsp\;pulling up in back at 5PM. They&#39\;ll be serving up your mexican favorites. The special\, green enchilladas.</span><br style="color: rgb(75\, 79\, 86)\; font-family: Helvetica\, Arial\, sans-serif\; font-size: 14px\;" />\n<br style="color: rgb(75\, 79\, 86)\; font-family: Helvetica\, Arial\, sans-serif\; font-size: 14px\;" />\n<span style="color: rgb(75\, 79\, 86)\; font-family: Helvetica\, Arial\, sans-serif\; font-size: 14px\;">Then at 8PM\, we kick off some live blues music with&nbsp\;</span><a href="https://www.facebook.com/thestemsroot/" style="color: rgb(54\, 88\, 153)\; cursor: pointer\; text-decoration-line: none\; font-family: Helvetica\, Arial\, sans-serif\; font-size: 14px\;">The Stems Blues Band</a><span style="color: rgb(75\, 79\, 86)\; font-family: Helvetica\, Arial\, sans-serif\; font-size: 14px\;">. No cover.</span><br style="color: rgb(75\, 79\, 86)\; font-family: Helvetica\, Arial\, sans-serif\; font-size: 14px\;" />\n<br style="color: rgb(75\, 79\, 86)\; font-family: Helvetica\, Arial\, sans-serif\; font-size: 14px\;" />\n<span style="color: rgb(75\, 79\, 86)\; font-family: Helvetica\, Arial\, sans-serif\; font-size: 14px\;">Bring the whole family and your best green attire!</span>
LOCATION:Angry Horse Brewing 603 W. Whittier Blvd.
UID:e.1156.2504
SEQUENCE:3
DTSTAMP:20260419T130326Z
URL:https://www.montebellochamber.org/events/details/st-patty-s-day-party-2504
END:VEVENT

END:VCALENDAR
