BEGIN:VCALENDAR
VERSION:2.0
PRODID:-//ChamberMaster//Event Calendar 2.0//EN
METHOD:PUBLISH
X-PUBLISHED-TTL:P3D
REFRESH-INTERVAL:P3D
CALSCALE:GREGORIAN
BEGIN:VEVENT
DTSTART:20190418T010000Z
DTEND:20190418T033000Z
X-MICROSOFT-CDO-ALLDAYEVENT:FALSE
SUMMARY:"Starting a Business" Workshop presented by SCORE
DESCRIPTION:"Starting a Business" Yes you can! We'll help. \n\nDo you have an idea for a business\, or a hobby that you'd like to turn into a business?  Perhaps you have a home based business that you'd like to expand\, or an existing business that you'd like to expand\, or an existing business that could be doing better.  If that's the case you should attend this FREE workshop. CAll  (626) 593-1120 or send an email to register.
X-ALT-DESC;FMTTYPE=text/html:&quot\;Starting a Business&quot\; Yes you can! We&#39\;ll help.&nbsp\;<br />\nDo you have an idea for a business\, or a hobby that you&#39\;d like to turn into a business?&nbsp\; Perhaps you have a home based business that you&#39\;d like to expand\, or an existing business that you&#39\;d like to expand\, or an existing business that could be doing better.&nbsp\; If that&#39\;s the case you should attend this FREE workshop. CAll &nbsp\;(626) 593-1120 or send an <a href="mailto:admin.0715@scorevolunteer.org ">email </a>to register.
LOCATION:Rosemead Community Recreation Center 3936 Muscatel Ave. Rosemead\, CA 91770
UID:e.1156.3285
SEQUENCE:3
DTSTAMP:20260419T172529Z
URL:https://www.montebellochamber.org/events/details/starting-a-business-workshop-presented-by-score-3285
END:VEVENT

END:VCALENDAR
