BEGIN:VCALENDAR
VERSION:2.0
PRODID:-//ChamberMaster//Event Calendar 2.0//EN
METHOD:PUBLISH
X-PUBLISHED-TTL:P3D
REFRESH-INTERVAL:P3D
CALSCALE:GREGORIAN
BEGIN:VEVENT
DTSTART:20201015T200000Z
DTEND:20201015T203000Z
X-MICROSOFT-CDO-ALLDAYEVENT:FALSE
SUMMARY:State of the City
DESCRIPTION:The Montebello Chamber of Commerce and City of Montebello present\n\nState of the City Address with Mayor Salvador Melendez\n\n\n\nJoin us on Thursday\, October 15th as Mayor Salvador Melendez shares all the positive developments in the city over the past year.
X-ALT-DESC;FMTTYPE=text/html:The Montebello Chamber of Commerce and City of Montebello present<br>\nState of the City Address with Mayor Salvador Melendez<br>\n<br>\nJoin us on Thursday\, October 15th as Mayor Salvador Melendez shares all the positive developments in the city over the past year.
LOCATION:Online Event--Pre-register to receive event updates
UID:e.1156.3769
SEQUENCE:3
DTSTAMP:20260423T053114Z
URL:https://www.montebellochamber.org/events/details/state-of-the-city-3769
END:VEVENT

END:VCALENDAR
