BEGIN:VCALENDAR
VERSION:2.0
PRODID:-//ChamberMaster//Event Calendar 2.0//EN
METHOD:PUBLISH
X-PUBLISHED-TTL:P3D
REFRESH-INTERVAL:P3D
CALSCALE:GREGORIAN
BEGIN:VEVENT
DTSTART:20211014T190000Z
DTEND:20211014T210000Z
X-MICROSOFT-CDO-ALLDAYEVENT:FALSE
SUMMARY:State of the City Address
DESCRIPTION:Mayor Kimberly Cobos-Cawthorne cordially invites you to attend the State of the City Address.
X-ALT-DESC;FMTTYPE=text/html:Mayor Kimberly Cobos-Cawthorne cordially invites you to attend the State of the City Address.&nbsp\;&nbsp\;
LOCATION:Quiet Cannon 901 Via San Clemente Montebello\, CA 90640
UID:e.1156.3938
SEQUENCE:3
DTSTAMP:20260420T035701Z
URL:https://www.montebellochamber.org/events/details/state-of-the-city-address-3938
END:VEVENT

END:VCALENDAR
