BEGIN:VCALENDAR
VERSION:2.0
PRODID:-//ChamberMaster//Event Calendar 2.0//EN
METHOD:PUBLISH
X-PUBLISHED-TTL:P3D
REFRESH-INTERVAL:P3D
CALSCALE:GREGORIAN
BEGIN:VEVENT
DTSTART:20150310T013000Z
DTEND:20150310T013000Z
X-MICROSOFT-CDO-ALLDAYEVENT:FALSE
SUMMARY:State of the City at City Hall Council Chambers
DESCRIPTION:For those who were not able to attend the State of the City address luncheon\, Mayor Jack Hadjinian will be holding a second presentation on the State of the City on March 9th at 6:30pm inside Council Chambers at City Hall.
X-ALT-DESC;FMTTYPE=text/html:<strong>For those who were not able to attend the State of the City address luncheon\, Mayor Jack Hadjinian will be holding a second presentation on the State of the City on March 9th at 6:30pm inside Council Chambers at City Hall.</strong>
LOCATION:1600 W. Beverly Blvd. Montebello\, CA 90640
UID:e.1156.1372
SEQUENCE:3
DTSTAMP:20260419T190715Z
URL:https://www.montebellochamber.org/events/details/state-of-the-city-at-city-hall-council-chambers-03-09-2015-1372
END:VEVENT

END:VCALENDAR
