BEGIN:VCALENDAR
VERSION:2.0
PRODID:-//ChamberMaster//Event Calendar 2.0//EN
METHOD:PUBLISH
X-PUBLISHED-TTL:P3D
REFRESH-INTERVAL:P3D
CALSCALE:GREGORIAN
BEGIN:VEVENT
DTSTART:20150218T193000Z
DTEND:20150218T210000Z
X-MICROSOFT-CDO-ALLDAYEVENT:FALSE
SUMMARY:State of the City featuring our Mayor\, Jack Hadjinian
DESCRIPTION:You are invited to attend the 2015 State of the City with Mayor Jack Hadjinian on Wednesday\, February 18\, 2015 from 11:30am-1:00pm at the Quiet Cannon- Carmel Room\, 901 Via San Clemente\, Montebello\, CA 90640\n\n\n\n\n\nThank you event Sponsors:\n\nAthen Services\, So Cal Gas Co.\n\n\n\nMedia Sponsor: www.gustavovillarreal.com\n\n\n\nProgram Sponsors: ACRO Printing & Southern California Edison\n\n\n\n*** Will wrap up with a Q & A Session**
X-ALT-DESC;FMTTYPE=text/html:You are invited to attend the <strong>2015 State of the City with Mayor Jack Hadjinian</strong> on Wednesday\, February 18\, 2015 from 11:30am-1:00pm at the Quiet Cannon- Carmel Room\, 901 Via San Clemente\, Montebello\, CA 90640<br />\n<br />\n<br />\n<strong>Thank you event Sponsors:<br />\nAthen Services\, So Cal Gas Co.</strong><br />\n<br />\n<strong>Media Sponsor: www.gustavovillarreal.com<br />\n<br />\nProgram Sponsors: ACRO Printing &amp\; Southern California Edison</strong><br />\n<br />\n*** Will wrap up with a Q &amp\; A Session**<br />\n&nbsp\;
LOCATION:Quiet Cannon Camino Room 901 N. Via San Clemente\, Montebello\, CA 90640
UID:e.1156.1345
SEQUENCE:3
DTSTAMP:20260419T160642Z
URL:https://www.montebellochamber.org/events/details/state-of-the-city-featuring-our-mayor-jack-hadjinian-02-18-2015-1345
END:VEVENT

END:VCALENDAR
