BEGIN:VCALENDAR
VERSION:2.0
PRODID:-//ChamberMaster//Event Calendar 2.0//EN
METHOD:PUBLISH
X-PUBLISHED-TTL:P3D
REFRESH-INTERVAL:P3D
CALSCALE:GREGORIAN
BEGIN:VEVENT
DTSTART:20191003T190000Z
DTEND:20191003T203000Z
X-MICROSOFT-CDO-ALLDAYEVENT:FALSE
SUMMARY:State of the City with Mayor Jack Hadjinian
DESCRIPTION:The Montebello Chamber of Commerce presents\n\nState of the City Address & Luncheon\n\nfeaturing Mayor Jack Hadjinian\n\nand Special Guest: Emmy-nominated KTLA 5 News Reporter Ellina Abovian\n\nJoin us during this exciting time of change for the City of Montebello for a State of the City Address Luncheon by Mayor Jack Hadjinian on Thursday\, October 3rd at Quiet Cannon Event & Conference Center. Meet Montebello's new City Manager and Assistant City Manager\, and mingle with civic\, business and community leaders.
X-ALT-DESC;FMTTYPE=text/html:The Montebello Chamber of Commerce presents<br />\nState of the City Address &amp\; Luncheon<br />\nfeaturing Mayor Jack Hadjinian<br />\nand Special Guest: Emmy-nominated KTLA 5 News Reporter Ellina Abovian<br />\n<span style="font-weight: bold\;">Join us during this exciting time of change for the City of Montebello for a State of the City Address Luncheon by Mayor Jack Hadjinian on Thursday\, October 3rd at Quiet Cannon Event &amp\; Conference Center. Meet Montebello&#39\;s new City Manager and Assistant City Manager\, and mingle with civic\, business and community leaders. </span>
LOCATION:Quiet Cannon Event & Conference Center 901 Via San Clemente Montebello\, CA 90640
UID:e.1156.3431
SEQUENCE:3
DTSTAMP:20260422T143503Z
URL:https://www.montebellochamber.org/events/details/state-of-the-city-with-mayor-jack-hadjinian-3431
END:VEVENT

END:VCALENDAR
