BEGIN:VCALENDAR
VERSION:2.0
PRODID:-//ChamberMaster//Event Calendar 2.0//EN
METHOD:PUBLISH
X-PUBLISHED-TTL:P3D
REFRESH-INTERVAL:P3D
CALSCALE:GREGORIAN
BEGIN:VEVENT
DTSTART:20190808T190000Z
DTEND:20190808T203000Z
X-MICROSOFT-CDO-ALLDAYEVENT:FALSE
SUMMARY:State of the Nation with Congresswoman Linda Sanchez
DESCRIPTION:The Montebello Chamber of Commerce and the chambers of commerce of Artesia\, Cerritos\, La Mirada\, Norwalk\, Pico Rivera\, Santa Fe Springs\, and Whittier invite you to attend the\n\n\n\nState of the Nation Luncheon Address\n\nfeaturing\n\nCongresswoman Linda Sanchez
X-ALT-DESC;FMTTYPE=text/html:The Montebello Chamber of Commerce and the chambers of commerce of Artesia\, Cerritos\, La Mirada\, Norwalk\, Pico Rivera\, Santa Fe Springs\, and Whittier invite you to attend the<br />\n<br />\nState of the Nation Luncheon Address<br />\nfeaturing<br />\nCongresswoman Linda Sanchez<br />\n&nbsp\;
LOCATION:DoubleTree by Hilton Los Angeles- Norwalk 13111 Sycamore Drive Norwalk\, CA 90650
UID:e.1156.3336
SEQUENCE:3
DTSTAMP:20260419T130918Z
URL:https://www.montebellochamber.org/events/details/state-of-the-nation-with-congresswoman-linda-sanchez-3336
END:VEVENT

END:VCALENDAR
