BEGIN:VCALENDAR
VERSION:2.0
PRODID:-//ChamberMaster//Event Calendar 2.0//EN
METHOD:PUBLISH
X-PUBLISHED-TTL:P3D
REFRESH-INTERVAL:P3D
CALSCALE:GREGORIAN
BEGIN:VEVENT
DTSTART:20201030T190000Z
DTEND:20201030T203000Z
X-MICROSOFT-CDO-ALLDAYEVENT:FALSE
SUMMARY:State of the Nation with Congresswoman Linda Sanchez
DESCRIPTION:The Montebello Chamber of Commerce and the chambers of commerce of Artesia\, Cerritos\, La Mirada\, Norwalk\, Pico Rivera\, Santa Fe Springs\, and Whittier invite their members to attend a virtual\n\n\n\nState of the Nation Address\n\nfeaturing\n\nCongresswoman Linda Sanchez\n\n\n\nPlease pre-register by October 29th to receive link to join the event. \n\n\n\nSponsorship opportunities are available with substantial benefits from ALL the participating chambers\, as well as an exclusive invitation to a special virtual meet-and-greet with the congresswoman.  CONTACT US for information about sponsorship.
X-ALT-DESC;FMTTYPE=text/html:The Montebello Chamber of Commerce and the chambers of commerce of Artesia\, Cerritos\, La Mirada\, Norwalk\, Pico Rivera\, Santa Fe Springs\, and Whittier invite their members to attend a virtual<br />\n<br />\nState of the Nation Address<br />\nfeaturing<br />\nCongresswoman Linda Sanchez<br />\n<br />\nPlease pre-register by October 29th to receive link to join the event.&nbsp\;<br />\n<br />\nSponsorship opportunities are available with substantial benefits from ALL the participating chambers\, as well as an exclusive invitation to a special virtual meet-and-greet with the congresswoman.&nbsp\; <a href="mailto:events@montebellochamber.org?subject=State%20of%20the%20Nation%20sponsorship%20inquiry"><strong>CONTACT US </strong></a>for information about sponsorship.
LOCATION:via Zoom
UID:e.1156.3743
SEQUENCE:3
DTSTAMP:20260423T054312Z
URL:https://www.montebellochamber.org/events/details/state-of-the-nation-with-congresswoman-linda-sanchez-3743
END:VEVENT

END:VCALENDAR
