BEGIN:VCALENDAR
VERSION:2.0
PRODID:-//ChamberMaster//Event Calendar 2.0//EN
METHOD:PUBLISH
X-PUBLISHED-TTL:P3D
REFRESH-INTERVAL:P3D
CALSCALE:GREGORIAN
BEGIN:VEVENT
DTSTART:20120208T153000Z
DTEND:20120208T173000Z
X-MICROSOFT-CDO-ALLDAYEVENT:FALSE
SUMMARY:Su Socio De Negocios - Business Seminar & Breakfast
DESCRIPTION:El Clasificado and Wells Fargo present the Su Socio de Negocios breakfast series at the corporate offices of El Clasificado 11205 Imperial Hwy.\, Norwalk\, CA 90650 Wednesday\, February 8th\, 2012 from 7:30   9:30 am. Register by calling 1 (877)999-SSDN or click here. This business series offers free information and advice in order to help you grow your business. Come and learn 4 systems to increase your sales: Prospect\, Present\, Follow Up and Sell. Luis Font\, motivational speaker and author of the book\, "Convi rtase en una estrella de ventas y negocios"\,will be the keynote speaker.
X-ALT-DESC;FMTTYPE=text/html:<p class="MsoNormal">\n	<span style="font-size:9.0pt\;line-height:115%\;font-family:\n&quot\;Arial&quot\;\,&quot\;sans-serif&quot\;\;color:#333333\;background:white">El Clasificado and Wells Fargo present the Su Socio de Negocios breakfast series at the corporate offices of El Clasificado 11205 Imperial Hwy.\, Norwalk\, CA 90650 Wednesday\, February 8<sup>th</sup>\, 2012 from 7:30 &ndash\; 9:30 am. Register by calling 1 (877)999-SSDN or click here. This business series offers free information and advice in order to help you grow your business. Come and learn 4 systems to increase your sales: Prospect\, Present\, Follow Up and Sell. Luis Font\, motivational speaker and author of the book\, &ldquo\;Convi&eacute\;rtase en una estrella de ventas y negocios&rdquo\;\,will be the keynote speaker.&nbsp\;<o:p></o:p></span></p>\n
LOCATION:El Clasificado 11205 Imperial Hwy.\, Norwalk\, CA 90650
UID:e.1156.15
SEQUENCE:3
DTSTAMP:20260420T113153Z
URL:https://www.montebellochamber.org/events/details/su-socio-de-negocios-business-seminar-breakfast-02-08-2012-15
END:VEVENT

END:VCALENDAR
