BEGIN:VCALENDAR
VERSION:2.0
PRODID:-//ChamberMaster//Event Calendar 2.0//EN
METHOD:PUBLISH
X-PUBLISHED-TTL:P3D
REFRESH-INTERVAL:P3D
CALSCALE:GREGORIAN
BEGIN:VEVENT
DTSTART:20120718T143000Z
DTEND:20120718T163000Z
X-MICROSOFT-CDO-ALLDAYEVENT:FALSE
SUMMARY:Su Socio De Negocios Business Seminar & Breakfast
DESCRIPTION:El Clasificado and Wells Fargo present the Su Socio de Negocios breakfast on July 18. The breakfast will feature the opportunity to network with local entrepreneurs and corporate sponsors. The keynote speaker will be Jose Ulloa\, the Latino Cyber Guy. Come eat a free and tasty breakfast while improving your networking and marketing skills.
X-ALT-DESC;FMTTYPE=text/html:<span lang="ES-MX" mso-hansi-theme-font:="" new="" style="line-height: 115%\; font-size: 11pt" times="">El Clasificado and Wells Fargo present the Su Socio de Negocios breakfast on July 18. </span><span mso-fareast-language:="" mso-fareast-theme-font:="" new="" style="line-height: 115%\; font-size: 11pt" times="">The breakfast will feature the opportunity to network with local entrepreneurs and corporate sponsors. The keynote speaker will be Jose Ulloa\, the Latino Cyber Guy. Come eat a free and tasty breakfast while improving your networking and marketing skills.</span>
LOCATION:El Clasificado Offices 11205 Imperial Hwy. Norwalk\, CA
UID:e.1156.642
SEQUENCE:3
DTSTAMP:20260420T053356Z
URL:https://www.montebellochamber.org/events/details/su-socio-de-negocios-business-seminar-breakfast-07-18-2012-642
END:VEVENT

END:VCALENDAR
