BEGIN:VCALENDAR
VERSION:2.0
PRODID:-//ChamberMaster//Event Calendar 2.0//EN
METHOD:PUBLISH
X-PUBLISHED-TTL:P3D
REFRESH-INTERVAL:P3D
CALSCALE:GREGORIAN
BEGIN:VEVENT
DTSTART:20120411T230000Z
DTEND:20120412T040000Z
X-MICROSOFT-CDO-ALLDAYEVENT:FALSE
SUMMARY:Su Socio De Negocios Expo
DESCRIPTION:El Clasificado presents our first Su Socio de Negocios Expo of the year.\n\n\n\nJoin your fellow business professionals and entrepreneurs in a night of networking and learning.\n\n\n\nWorkshops will be presented by Google and California SBDC\, as well as a keynote presentation from Martee Pierson of Liberty Tax Service\, Director of 'Programa Diversidad' and the Executive Director of the 'Una familia sin Fronteras' foundation. Her speech will entail tips and advice on how to manage a successful business. \n\n\n\nPlease log on to our SSDN site for registration information and more details.\n\n\n\nThis is a free event and networking mixer. Light appetizers will be provided.
X-ALT-DESC;FMTTYPE=text/html:El Clasificado presents our first Su Socio de Negocios Expo of the year.<br />\n<br />\nJoin your fellow business professionals and entrepreneurs in a night of networking and learning.<br />\n<br />\nWorkshops will be presented by Google and California SBDC\, as well as a keynote presentation from Martee Pierson of Liberty Tax Service\, Director of &#39\;Programa Diversidad&#39\; and the Executive Director of the &#39\;Una familia sin Fronteras&#39\; foundation. Her speech will entail tips and advice on how to manage a successful business.&nbsp\;<br />\n<br />\nPlease log on to our SSDN site for registration information and more details.<br />\n<br />\nThis is a free event and networking mixer. Light appetizers will be provided.
LOCATION:Radisson Hotel 7320 Greenleaf Ave.\, Whittier\, CA 90602
UID:e.1156.630
SEQUENCE:3
DTSTAMP:20260420T095807Z
URL:https://www.montebellochamber.org/events/details/su-socio-de-negocios-expo-04-11-2012-630
END:VEVENT

END:VCALENDAR
