BEGIN:VCALENDAR
VERSION:2.0
PRODID:-//ChamberMaster//Event Calendar 2.0//EN
METHOD:PUBLISH
X-PUBLISHED-TTL:P3D
REFRESH-INTERVAL:P3D
CALSCALE:GREGORIAN
BEGIN:VEVENT
DTSTART:20180630T193000Z
DTEND:20180630T223000Z
X-MICROSOFT-CDO-ALLDAYEVENT:FALSE
SUMMARY:Summer Block Party @ Ray Ortho
DESCRIPTION:Dr. Ray's Summer Block Party!\n\nJoin us for some summer fun and enjoy FREE food\, music\, cotton candy\, face painting\, bounce house\, balloon animal making\, and toothbrushes!\n\n\n\nAll in attendance will enter a raffle for a chance to win an Apple Watch!
X-ALT-DESC;FMTTYPE=text/html:Dr. Ray&#39\;s Summer Block Party!<br />\nJoin us for some summer fun and enjoy FREE food\, music\, cotton candy\, face painting\, bounce house\, balloon animal making\, and toothbrushes!<br />\n<br />\nAll in attendance will enter a raffle for a chance to win an Apple Watch!
LOCATION:Ray Orthodontics 415 W. Beverly Blvd.\, Suite B Montebello\, CA 90640
UID:e.1156.2618
SEQUENCE:3
DTSTAMP:20260419T173324Z
URL:https://www.montebellochamber.org/events/details/summer-block-party-ray-ortho-2618
END:VEVENT

END:VCALENDAR
