BEGIN:VCALENDAR
VERSION:2.0
PRODID:-//ChamberMaster//Event Calendar 2.0//EN
METHOD:PUBLISH
X-PUBLISHED-TTL:P3D
REFRESH-INTERVAL:P3D
CALSCALE:GREGORIAN
BEGIN:VEVENT
DTSTART;VALUE=DATE:20180508
DTEND;VALUE=DATE:20180509
TRANSP:TRANSPARENT
X-MICROSOFT-CDO-ALLDAYEVENT:TRUE
SUMMARY:Summer Camp Registration
DESCRIPTION:City of Montebello\n\nDepartment of Recreation & Communication\n\n\n\nRegistration packets available.\n\nMay 21-25: Mail in registration for Summer Camp\n\n\n\nMore details TBA
X-ALT-DESC;FMTTYPE=text/html:<div style="text-align: center\;">City of Montebello<br />\nDepartment of Recreation &amp\; Communication<br />\n<br />\nRegistration packets available.<br />\nMay 21-25: Mail in registration for Summer Camp<br />\n<br />\nMore details TBA<br />\n&nbsp\;</div>\n
LOCATION:
UID:e.1156.2560
SEQUENCE:3
DTSTAMP:20260419T155912Z
URL:https://www.montebellochamber.org/events/details/summer-camp-registration-2560
END:VEVENT

END:VCALENDAR
