BEGIN:VCALENDAR
VERSION:2.0
PRODID:-//ChamberMaster//Event Calendar 2.0//EN
METHOD:PUBLISH
X-PUBLISHED-TTL:P3D
REFRESH-INTERVAL:P3D
CALSCALE:GREGORIAN
BEGIN:VEVENT
DTSTART:20170714T010000Z
DTEND:20170714T040000Z
X-MICROSOFT-CDO-ALLDAYEVENT:FALSE
SUMMARY:Summer Concerts in the Park Series
DESCRIPTION:Enjoy live music in the park with different artists each week!
X-ALT-DESC;FMTTYPE=text/html:Enjoy live music in the park with different artists each week!
LOCATION:Montebello City Park Bandshell
UID:e.1156.1734
SEQUENCE:3
DTSTAMP:20260419T130735Z
URL:https://www.montebellochamber.org/events/details/summer-concerts-in-the-park-series-07-13-2017-1734
END:VEVENT

END:VCALENDAR
