BEGIN:VCALENDAR
VERSION:2.0
PRODID:-//ChamberMaster//Event Calendar 2.0//EN
METHOD:PUBLISH
X-PUBLISHED-TTL:P3D
REFRESH-INTERVAL:P3D
CALSCALE:GREGORIAN
BEGIN:VEVENT
DTSTART:20180625T183000Z
DTEND:20180625T203000Z
X-MICROSOFT-CDO-ALLDAYEVENT:FALSE
SUMMARY:Summer Food Service Program
DESCRIPTION:Summer Food Service Program - FREE Lunch & Snack for ages 1-18\n\nMontebell City Park\n\nLunch 12:30pm -1:30pm\n\nSnack 3:30pm - 4:00pm\n\n\n\nWashington Elementary\n\nLunch 11:30am - 12:30p\,\n\nSnack 3:30pm - 4:00pm\n\n\n\n"First Come\, First Serve"
X-ALT-DESC;FMTTYPE=text/html:Summer Food Service Program - FREE Lunch &amp\; Snack for ages 1-18<br />\nMontebell City Park<br />\nLunch 12:30pm -1:30pm<br />\nSnack 3:30pm - 4:00pm<br />\n<br />\nWashington Elementary<br />\nLunch 11:30am - 12:30p\,<br />\nSnack 3:30pm - 4:00pm<br />\n<br />\n&quot\;First Come\, First Serve&quot\;
LOCATION:
UID:e.1156.2619
SEQUENCE:3
DTSTAMP:20260419T184228Z
URL:https://www.montebellochamber.org/events/details/summer-food-service-program-2619
END:VEVENT

END:VCALENDAR
