BEGIN:VCALENDAR
VERSION:2.0
PRODID:-//ChamberMaster//Event Calendar 2.0//EN
METHOD:PUBLISH
X-PUBLISHED-TTL:P3D
REFRESH-INTERVAL:P3D
CALSCALE:GREGORIAN
BEGIN:VEVENT
DTSTART;VALUE=DATE:20180529
DTEND;VALUE=DATE:20180530
TRANSP:TRANSPARENT
X-MICROSOFT-CDO-ALLDAYEVENT:TRUE
SUMMARY:Summer Outdoor Basketball
DESCRIPTION:City of Montebello\n\nSummer Outdoor Basketball\n\nRegistration starts May 29\, 2018\n\nRegistration Fee $50\n\nFor ages 7-14\n\n\n\nDivisions\n\nD - 2010 - 2011\n\nC - 2008 - 2009\n\nB - 2006 - 2007\n\nA - 2004 - 2005\n\n\n\nRequirements\n\nCopy of birth certificate and I.D.\n\nKnee Pads
X-ALT-DESC;FMTTYPE=text/html:<div style="text-align: center\;">City of Montebello<br />\nSummer Outdoor Basketball<br />\nRegistration&nbsp\;starts May 29\, 2018<br />\nRegistration Fee $50<br />\nFor ages 7-14<br />\n<br />\nDivisions<br />\nD - 2010 - 2011<br />\nC - 2008 - 2009<br />\nB - 2006 - 2007<br />\nA - 2004 - 2005<br />\n<br />\nRequirements<br />\nCopy of birth certificate and I.D.<br />\nKnee Pads</div>\n
LOCATION:Registration Location 236 George Hensel Dr. Montebello\, CA 90640
UID:e.1156.2579
SEQUENCE:3
DTSTAMP:20260419T172855Z
URL:https://www.montebellochamber.org/events/details/summer-outdoor-basketball-2579
END:VEVENT

END:VCALENDAR
