BEGIN:VCALENDAR
VERSION:2.0
PRODID:-//ChamberMaster//Event Calendar 2.0//EN
METHOD:PUBLISH
X-PUBLISHED-TTL:P3D
REFRESH-INTERVAL:P3D
CALSCALE:GREGORIAN
BEGIN:VEVENT
DTSTART:20150717T190000Z
DTEND:20150717T220000Z
X-MICROSOFT-CDO-ALLDAYEVENT:FALSE
SUMMARY:Summertime Tahitian Luau
DESCRIPTION:Nothing says summer like a luau and here at Brookdale Central Whittier\, one thing is for sure\, we know how to throw a great party!!! Enjoy a Tahitian themed Luau with lunch\, appetizers\, drinks (alcoholic and non-alcoholic available) After lunch enjoy drummers and dancers from our live Polynesian entertainment! Event is free for the entire family and this invitation is extended both to the young and young at heart!
X-ALT-DESC;FMTTYPE=text/html:Nothing says summer like a luau and here at Brookdale Central Whittier\, one thing is for sure\, we know how to throw a great party!!! Enjoy a Tahitian themed Luau with lunch\, appetizers\, drinks (alcoholic and non-alcoholic available) After lunch enjoy drummers and dancers from our live Polynesian entertainment! Event is free for the entire family and this invitation is extended both to the young and young at heart!
LOCATION:Brookdale Central Whittier 8101 Painter Ave (Cross Streets are Whittier Blvd and La Cuarta)
UID:e.1156.1407
SEQUENCE:3
DTSTAMP:20260419T231223Z
URL:https://www.montebellochamber.org/events/details/summertime-tahitian-luau-07-17-2015-1407
END:VEVENT

END:VCALENDAR
