BEGIN:VCALENDAR
VERSION:2.0
PRODID:-//ChamberMaster//Event Calendar 2.0//EN
METHOD:PUBLISH
X-PUBLISHED-TTL:P3D
REFRESH-INTERVAL:P3D
CALSCALE:GREGORIAN
BEGIN:VEVENT
DTSTART:20190203T233000Z
DTEND:20190204T033000Z
X-MICROSOFT-CDO-ALLDAYEVENT:FALSE
SUMMARY:SuperBowl Sunday at Angry Horse Brewing
DESCRIPTION:Join us in cheering on the Los Angeles Rams take on the New England Patriot's in this year's Super Bowl LIII.  Families Welcome.  This year\, we've partnered up with Alondra's Craft American Eatery.  They will be offering disounts to Angry Horse customers that order in delivery to the taproom.
X-ALT-DESC;FMTTYPE=text/html:<font color="#1d2129" face="helvetica\, sans-serif"><span style="font-size: 14px\;">Join us in cheering on the Los Angeles Rams take on the New England Patriot&#39\;s in this year&#39\;s Super Bowl LIII.&nbsp\; Families Welcome.&nbsp\; This year\, we&#39\;ve partnered up with Alondra&#39\;s Craft American Eatery.&nbsp\; They will be offering disounts to Angry Horse customers that order in delivery to the taproom.&nbsp\;</span></font>
LOCATION:Angry Horse Br4wing 603 W. Whittier Blvd. Montebello\, CA 90640
UID:e.1156.3223
SEQUENCE:3
DTSTAMP:20260419T130702Z
URL:https://www.montebellochamber.org/events/details/superbowl-sunday-at-angry-horse-brewing-3223
END:VEVENT

END:VCALENDAR
