BEGIN:VCALENDAR
VERSION:2.0
PRODID:-//ChamberMaster//Event Calendar 2.0//EN
METHOD:PUBLISH
X-PUBLISHED-TTL:P3D
REFRESH-INTERVAL:P3D
CALSCALE:GREGORIAN
BEGIN:VEVENT
DTSTART:20190126T170000Z
DTEND:20190126T200000Z
X-MICROSOFT-CDO-ALLDAYEVENT:FALSE
SUMMARY:Swearing In Ceremony State Senator Bob Archuleta
DESCRIPTION:Swearing in Ceremony\n\n32nd Senate District State Senator Bob Archuleta\n\nPlease RSVP to Sandra Molina at 562-860-3202
X-ALT-DESC;FMTTYPE=text/html:Swearing in Ceremony<br />\n32nd Senate District State Senator Bob Archuleta<br />\nPlease RSVP to Sandra Molina at 562-860-3202
LOCATION:City Hall Lawn 12700 Norwalk Blvd. Norwalk\, CA
UID:e.1156.3185
SEQUENCE:3
DTSTAMP:20260419T143238Z
URL:https://www.montebellochamber.org/events/details/swearing-in-ceremony-state-senator-bob-archuleta-3185
END:VEVENT

END:VCALENDAR
