BEGIN:VCALENDAR
VERSION:2.0
PRODID:-//ChamberMaster//Event Calendar 2.0//EN
METHOD:PUBLISH
X-PUBLISHED-TTL:P3D
REFRESH-INTERVAL:P3D
CALSCALE:GREGORIAN
BEGIN:VEVENT
DTSTART:20180504T140000Z
DTEND:20180504T220000Z
X-MICROSOFT-CDO-ALLDAYEVENT:FALSE
SUMMARY:SYEP GOLF TOURNAMENT
DESCRIPTION:The City of Montebello\, Recreation & Community Services Department\, implemented the Summer Youth Employment Program 36 years ago due to budget cuts at both the federal and state level. The Summer Youth Employment Program is a training program that provides youth invaluable work experience. Youth participating in the program provide productive services for the community through their job assignments in Summer Camp\, Street Maintenance\, Summer Recreation Program\, Park Maintenance\, Transit Department\, Aquatic Program\, Lunch Program\, Fire Department\, Police Department Clerical Position. The funds raised through the SYEP Golf Tournament determines how many Youth Employment participants are hired. All the proceeds from the tournament directly impact SYEP participants. The dedication of the sponsors\, golfers and committee members ensure that opportunities are available for our community. We appreciate your support and dedication!
X-ALT-DESC;FMTTYPE=text/html:The City of Montebello\, Recreation &amp\; Community Services Department\, implemented the Summer Youth Employment Program 36 years ago due to budget cuts at both the federal and state level. The Summer Youth Employment Program is a training program that provides youth invaluable work experience. Youth participating in the program provide productive services for the community through their job assignments in Summer Camp\, Street Maintenance\, Summer Recreation Program\, Park Maintenance\, Transit Department\, Aquatic Program\, Lunch Program\, Fire Department\, Police Department Clerical Position. The funds raised through the SYEP Golf Tournament determines how many Youth Employment participants are hired. All the proceeds from the tournament directly impact SYEP participants. The dedication of the sponsors\, golfers and committee members ensure that opportunities are available for our community. We appreciate your support and dedication!
LOCATION:Quiet Cannon 901 Via San Clemente Montebello\, CA 90640
UID:e.1156.2470
SEQUENCE:3
DTSTAMP:20260419T160025Z
URL:https://www.montebellochamber.org/events/details/syep-golf-tournament-2470
END:VEVENT

END:VCALENDAR
