BEGIN:VCALENDAR
VERSION:2.0
PRODID:-//ChamberMaster//Event Calendar 2.0//EN
METHOD:PUBLISH
X-PUBLISHED-TTL:P3D
REFRESH-INTERVAL:P3D
CALSCALE:GREGORIAN
BEGIN:VEVENT
DTSTART:20190312T230000Z
DTEND:20190313T000000Z
X-MICROSOFT-CDO-ALLDAYEVENT:FALSE
SUMMARY:Tacos Don Chente
DESCRIPTION:Tacos Don Chente is having Beer Sampling by the Corona Girls promoting Corona Premier!!
X-ALT-DESC;FMTTYPE=text/html:Tacos Don Chente is having Beer Sampling by the Corona Girls promoting Corona Premier!!&nbsp\;
LOCATION:Tacos Don Chente 1813 W. Whittier Blvd. Montebello\, CA 90640
UID:e.1156.3257
SEQUENCE:3
DTSTAMP:20260419T155912Z
URL:https://www.montebellochamber.org/events/details/tacos-don-chente-3257
END:VEVENT

END:VCALENDAR
