BEGIN:VCALENDAR
VERSION:2.0
PRODID:-//ChamberMaster//Event Calendar 2.0//EN
METHOD:PUBLISH
X-PUBLISHED-TTL:P3D
REFRESH-INTERVAL:P3D
CALSCALE:GREGORIAN
BEGIN:VEVENT
DTSTART:20180324T000000Z
DTEND:20180324T063000Z
X-MICROSOFT-CDO-ALLDAYEVENT:FALSE
SUMMARY:Tacos La Bomba Patio Pop Up
DESCRIPTION:Tacos La Bomba is back this Friday\, March 23rd. They will be serving up their authentic street style tacos from Nayarit\, Mexico. It's a family recipe so you know it's going to be good! Patio pop up starts at 5pm.
X-ALT-DESC;FMTTYPE=text/html:<a href="https://www.facebook.com/Tacos-La-Bomba-1055614577814455/" style="color: rgb(54\, 88\, 153)\; cursor: pointer\; text-decoration-line: none\; font-family: Helvetica\, Arial\, sans-serif\; font-size: 14px\;">Tacos La Bomba</a><span style="color: rgb(75\, 79\, 86)\; font-family: Helvetica\, Arial\, sans-serif\; font-size: 14px\;">&nbsp\;is back this Friday\, March 23rd. They will be serving up their authentic street style tacos from Nayarit\, Mexico. It&#39\;s a family recipe so you know it&#39\;s going to be good! Patio pop up starts at 5pm.</span>
LOCATION:Angry Horse Brewing 603 W. Whittier Blvd. Montebello\, CA 90640
UID:e.1156.2513
SEQUENCE:3
DTSTAMP:20260419T130525Z
URL:https://www.montebellochamber.org/events/details/tacos-la-bomba-patio-pop-up-2513
END:VEVENT

END:VCALENDAR
