BEGIN:VCALENDAR
VERSION:2.0
PRODID:-//ChamberMaster//Event Calendar 2.0//EN
METHOD:PUBLISH
X-PUBLISHED-TTL:P3D
REFRESH-INTERVAL:P3D
CALSCALE:GREGORIAN
BEGIN:VEVENT
DTSTART:20140625T190000Z
DTEND:20140625T203000Z
X-MICROSOFT-CDO-ALLDAYEVENT:FALSE
SUMMARY:Tara A. Hernandez\, M.A. LMFT
DESCRIPTION:Join us for the Grand Opening Ribbon Cutting Ceremony of Tara A. Hernandez\, M.A\, LMFT\n\n\n\nStep away for lunch and enjoy tasty treats while networking with your fellow chamber members. The perfect opportunity to exchange business cards\, build\, relationships and build business.
X-ALT-DESC;FMTTYPE=text/html:Join us for the Grand Opening Ribbon Cutting Ceremony of <strong>Tara A. Hernandez\, M.A\, LMFT</strong><br>\n<br>\nStep away for lunch and enjoy tasty treats while networking with your fellow chamber members. The perfect opportunity to exchange business cards\, build\, relationships and build business.
LOCATION:813 West Whittier Blvd Suite 212\, Montebello CA 90640
UID:e.1156.1005
SEQUENCE:3
DTSTAMP:20260419T130432Z
URL:https://www.montebellochamber.org/events/details/tara-a-hernandez-m-a-lmft-06-25-2014-1005
END:VEVENT

END:VCALENDAR
