BEGIN:VCALENDAR
VERSION:2.0
PRODID:-//ChamberMaster//Event Calendar 2.0//EN
METHOD:PUBLISH
X-PUBLISHED-TTL:P3D
REFRESH-INTERVAL:P3D
CALSCALE:GREGORIAN
BEGIN:VEVENT
DTSTART:20121110T220000Z
DTEND:20121110T230000Z
X-MICROSOFT-CDO-ALLDAYEVENT:FALSE
SUMMARY:TEEN BINGO FOR BOOKS
DESCRIPTION:Join and meet fellow teens as you win prizes playing BINGO
X-ALT-DESC;FMTTYPE=text/html:<p>\n	Join and meet fellow teens as you win prizes playing BINGO</p>\n
LOCATION:Montebello Public Library\, 1550 W. Beverly Blvd.\, Montebello\, CA 90650
UID:e.1156.664
SEQUENCE:3
DTSTAMP:20260419T214732Z
URL:https://www.montebellochamber.org/events/details/teen-bingo-for-books-11-10-2012-664
END:VEVENT

END:VCALENDAR
