BEGIN:VCALENDAR
VERSION:2.0
PRODID:-//ChamberMaster//Event Calendar 2.0//EN
METHOD:PUBLISH
X-PUBLISHED-TTL:P3D
REFRESH-INTERVAL:P3D
CALSCALE:GREGORIAN
BEGIN:VEVENT
DTSTART:20200331T190000Z
DTEND:20200331T190000Z
X-MICROSOFT-CDO-ALLDAYEVENT:FALSE
SUMMARY:Tele-Town Hall w/ Assemblywoman Cristina Garcia
DESCRIPTION:Join Assemblywoman Cristina Garcia in an Update Coronavirus Tele-Town Hall .  Have you received conflicting information about the coronavirus and want clarification? During this time many things are uncertain\, we would like to provide clarity to our community during this pandemic.
X-ALT-DESC;FMTTYPE=text/html:Join Assemblywoman Cristina Garcia in an Update Coronavirus Tele-Town Hall .&nbsp\; Have you received conflicting information about the coronavirus and want clarification? During this time many things are uncertain\, we would like to provide clarity to our community during this pandemic.<br />\n&nbsp\;
LOCATION:Tele-Town Hall Conference Call Number (215) 446-3649 or (888) 557-8511 Access Code" 8767370
UID:e.1156.3653
SEQUENCE:3
DTSTAMP:20260419T202747Z
URL:https://www.montebellochamber.org/events/details/tele-town-hall-w-assemblywoman-cristina-garcia-3653
END:VEVENT

END:VCALENDAR
