BEGIN:VCALENDAR
VERSION:2.0
PRODID:-//ChamberMaster//Event Calendar 2.0//EN
METHOD:PUBLISH
X-PUBLISHED-TTL:P3D
REFRESH-INTERVAL:P3D
CALSCALE:GREGORIAN
BEGIN:VEVENT
DTSTART:20200626T200000Z
DTEND:20200626T210000Z
X-MICROSOFT-CDO-ALLDAYEVENT:FALSE
SUMMARY:Tenants-Covid-19 Tenant Protections & Fair Housing Workshops
DESCRIPTION:Housing Rights Center presents Covid-19 Tenant Protections & Fair Housing Workshops for Tenants.  Cities covered:  Alhambra\, Pasadena\, South Pasadena\, El Monte\, Pomona\, West Covina\, Arcadia\, Baldwin Park\, Glendora\, Montebello\, Monterey Park\, Rosemead and LA City.   Topics include:  Eviction moratorium\, emergency orders\, Fair Housing \, new renta laws and more!
X-ALT-DESC;FMTTYPE=text/html:Housing Rights Center presents Covid-19 Tenant Protections &amp\; Fair Housing Workshops for Tenants.&nbsp\; Cities covered:&nbsp\; Alhambra\, Pasadena\, South Pasadena\, El Monte\, Pomona\, West Covina\, Arcadia\, Baldwin Park\, Glendora\, Montebello\, Monterey Park\, Rosemead and LA City.&nbsp\;&nbsp\; Topics include:&nbsp\; Eviction moratorium\, emergency orders\, Fair Housing \, new renta laws and more!
LOCATION:Zoom
UID:e.1156.3725
SEQUENCE:3
DTSTAMP:20260419T160547Z
URL:https://www.montebellochamber.org/events/details/tenants-covid-19-tenant-protections-fair-housing-workshops-3725
END:VEVENT

END:VCALENDAR
