BEGIN:VCALENDAR
VERSION:2.0
PRODID:-//ChamberMaster//Event Calendar 2.0//EN
METHOD:PUBLISH
X-PUBLISHED-TTL:P3D
REFRESH-INTERVAL:P3D
CALSCALE:GREGORIAN
BEGIN:VEVENT
DTSTART;VALUE=DATE:20200626
DTEND;VALUE=DATE:20200627
TRANSP:TRANSPARENT
X-MICROSOFT-CDO-ALLDAYEVENT:TRUE
SUMMARY:Tenants-SPANISH-Covid-19 Tenant Protections & Fair Housing Workshops
DESCRIPTION:Centro de Derechos de Vivienda presenta Covid-19 Proteccionses de Inquillinos y tallerr de vivienda justa.   Ciudades cubiertas: Alhambra\, Pasadena\, South Pasadena\, El Monte\, Pomona\, West Covina\, Arcadia\, Baldwin Park\, Glendora\, Montebello\, Monterey Park\, Rosemead y LA City.
X-ALT-DESC;FMTTYPE=text/html:Centro de Derechos de Vivienda presenta Covid-19 Proteccionses de Inquillinos y tallerr de vivienda justa.&nbsp\;&nbsp\; Ciudades cubiertas: Alhambra\, Pasadena\, South Pasadena\, El Monte\, Pomona\, West Covina\, Arcadia\, Baldwin Park\, Glendora\, Montebello\, Monterey Park\, Rosemead y LA City.
LOCATION:Zoom
UID:e.1156.3727
SEQUENCE:3
DTSTAMP:20260419T160544Z
URL:https://www.montebellochamber.org/events/details/tenants-spanish-covid-19-tenant-protections-fair-housing-workshops-3727
END:VEVENT

END:VCALENDAR
