BEGIN:VCALENDAR
VERSION:2.0
PRODID:-//ChamberMaster//Event Calendar 2.0//EN
METHOD:PUBLISH
X-PUBLISHED-TTL:P3D
REFRESH-INTERVAL:P3D
CALSCALE:GREGORIAN
BEGIN:VEVENT
DTSTART:20181101T010000Z
DTEND:20181101T040000Z
X-MICROSOFT-CDO-ALLDAYEVENT:FALSE
SUMMARY:The Adobe at Night by the Montebello Historical Society
DESCRIPTION:Visit us on All Hallow's Eve...it's when the ghost come out to play...Pick up some candy and maybe you'll get to see our infamous ghosts watching over the Adobe.
X-ALT-DESC;FMTTYPE=text/html:Visit us on All Hallow&#39\;s Eve...it&#39\;s when the ghost come out to play...Pick up some candy and maybe you&#39\;ll get to see our infamous ghosts watching over the Adobe.
LOCATION:Juan Matias Sachez Adobe Museum & Historic Site 948 N. Adobe Ave. Montebello\, CA 90640
UID:e.1156.3095
SEQUENCE:3
DTSTAMP:20260419T202733Z
URL:https://www.montebellochamber.org/events/details/the-adobe-at-night-by-the-montebello-historical-society-3095
END:VEVENT

END:VCALENDAR
