BEGIN:VCALENDAR
VERSION:2.0
PRODID:-//ChamberMaster//Event Calendar 2.0//EN
METHOD:PUBLISH
X-PUBLISHED-TTL:P3D
REFRESH-INTERVAL:P3D
CALSCALE:GREGORIAN
BEGIN:VEVENT
DTSTART:20180603T030000Z
DTEND:20180603T060000Z
X-MICROSOFT-CDO-ALLDAYEVENT:FALSE
SUMMARY:The Cheeky Few 3rd Anniversary Show
DESCRIPTION:These guys are regulars at our taproom and their back this Saturday\, June 2nd for another night of Americana Music. We're super excited to welcome The Cheeky Few as they celebrate their 3rd anniversary! So come out and raise your glass to our favorite band from Whittier. Music starts at 8pm. \n\n\n\nNo cover. Family friendly.
X-ALT-DESC;FMTTYPE=text/html:<span style="color: rgb(29\, 33\, 41)\; font-family: Helvetica\, Arial\, sans-serif\; font-size: 14px\;">These guys are regulars at our taproom and their back this Saturday\, June 2nd for another night of Americana Music. We&#39\;re super excited to welcome&nbsp\;</span><a href="https://www.facebook.com/thecheekyfew/" style="color: rgb(54\, 88\, 153)\; cursor: pointer\; text-decoration-line: none\; font-family: Helvetica\, Arial\, sans-serif\; font-size: 14px\;" target="_blank">The Cheeky Few</a><span style="color: rgb(29\, 33\, 41)\; font-family: Helvetica\, Arial\, sans-serif\; font-size: 14px\;">&nbsp\;as they celebrate their 3rd anniversary! So come out and raise your glass to our favorite band from Whittier. Music starts at 8pm.&nbsp\;</span><br style="color: rgb(29\, 33\, 41)\; font-family: Helvetica\, Arial\, sans-serif\; font-size: 14px\;" />\n<br style="color: rgb(29\, 33\, 41)\; font-family: Helvetica\, Arial\, sans-serif\; font-size: 14px\;" />\n<span style="color: rgb(29\, 33\, 41)\; font-family: Helvetica\, Arial\, sans-serif\; font-size: 14px\;">No cover. Family friendly.</span>
LOCATION:Angry Horse Brewing 603 W. Whittier Blvd. Montebello\, CA 90640
UID:e.1156.2606
SEQUENCE:3
DTSTAMP:20260419T173447Z
URL:https://www.montebellochamber.org/events/details/the-cheeky-few-3rd-anniversary-show-2606
END:VEVENT

END:VCALENDAR
