BEGIN:VCALENDAR
VERSION:2.0
PRODID:-//ChamberMaster//Event Calendar 2.0//EN
METHOD:PUBLISH
X-PUBLISHED-TTL:P3D
REFRESH-INTERVAL:P3D
CALSCALE:GREGORIAN
BEGIN:VEVENT
DTSTART:20171007T220000Z
DTEND:20171008T030000Z
X-MICROSOFT-CDO-ALLDAYEVENT:FALSE
SUMMARY:The Montebello Historical Society Presents Octoberfest at the Adobe
DESCRIPTION:Craft beer & food (bratwurst\, hot dogs\, and fish tacos) for purchase\, all proceeds will go to the Adobe's revitalization. Live music by The Swinging 8 Balls! The event is free!\n\nRain does not cancel - costumes admired but not required
X-ALT-DESC;FMTTYPE=text/html:Craft beer &amp\; food (bratwurst\, hot dogs\, and fish tacos) for purchase\, all proceeds will go to the Adobe&#39\;s revitalization. Live music by The Swinging 8 Balls! The event is free!<br />\nRain does not cancel - costumes admired but not required
LOCATION:Adobe Museum & HIstorical Site 946 N. Adobe Ave\, Montebello\, CA 90640
UID:e.1156.1878
SEQUENCE:3
DTSTAMP:20260419T114834Z
URL:https://www.montebellochamber.org/events/details/the-montebello-historical-society-presents-octoberfest-at-the-adobe-1878
END:VEVENT

END:VCALENDAR
