BEGIN:VCALENDAR
VERSION:2.0
PRODID:-//ChamberMaster//Event Calendar 2.0//EN
METHOD:PUBLISH
X-PUBLISHED-TTL:P3D
REFRESH-INTERVAL:P3D
CALSCALE:GREGORIAN
BEGIN:VEVENT
DTSTART:20171018T013000Z
DTEND:20171018T030000Z
X-MICROSOFT-CDO-ALLDAYEVENT:FALSE
SUMMARY:The State of the City Address
DESCRIPTION:The City of Montebello & The Chamber of Commerce Present\n\nEncore Presentation The State of the City Address\n\n\n\nCity of Montebello Mayor Vivian Romero\n\nAddresses citizens\, community members\, businesses and city staff\n\n\n\nFood & beverage complimentary
X-ALT-DESC;FMTTYPE=text/html:The City of Montebello&nbsp\;&amp\; The Chamber of Commerce Present<br>\nEncore Presentation The State of the City Address<br>\n<br>\nCity of Montebello&nbsp\;Mayor Vivian Romero<br>\nAddresses citizens\, community members\, businesses and city staff<br>\n<br>\nFood &amp\; beverage complimentary
LOCATION:Queit Cannon 901 Via San Clemente Montebello\, CA 90640 Spyglass Room
UID:e.1156.1926
SEQUENCE:3
DTSTAMP:20260419T130745Z
URL:https://www.montebellochamber.org/events/details/the-state-of-the-city-address-1926
END:VEVENT

END:VCALENDAR
