BEGIN:VCALENDAR
VERSION:2.0
PRODID:-//ChamberMaster//Event Calendar 2.0//EN
METHOD:PUBLISH
X-PUBLISHED-TTL:P3D
REFRESH-INTERVAL:P3D
CALSCALE:GREGORIAN
BEGIN:VEVENT
DTSTART:20191005T170000Z
DTEND:20191005T190000Z
X-MICROSOFT-CDO-ALLDAYEVENT:FALSE
SUMMARY:Think Pink: Breast Cancer Awareness Walk
DESCRIPTION:Walk in real life.  Think Pink:  Breast Cancer Awareness Walk \n\nThe Shops at Montebello & Soroptimist International of Montebello invite you to WALK and benefit Beverly Hospital's Women's Pavillion & Breast Center.
X-ALT-DESC;FMTTYPE=text/html:Walk in real life.&nbsp\; Think Pink:&nbsp\; Breast Cancer Awareness Walk&nbsp\;<br />\nThe Shops at Montebello &amp\; Soroptimist International of Montebello invite you to WALK and benefit Beverly Hospital&#39\;s Women&#39\;s Pavillion &amp\; Breast Center.&nbsp\;
LOCATION:The Shops at Montebello 2134 Montebello Town Center Montebello\, CA 90640
UID:e.1156.3419
SEQUENCE:3
DTSTAMP:20260420T035816Z
URL:https://www.montebellochamber.org/events/details/think-pink-breast-cancer-awareness-walk-3419
END:VEVENT

END:VCALENDAR
