BEGIN:VCALENDAR
VERSION:2.0
PRODID:-//ChamberMaster//Event Calendar 2.0//EN
METHOD:PUBLISH
X-PUBLISHED-TTL:P3D
REFRESH-INTERVAL:P3D
CALSCALE:GREGORIAN
BEGIN:VEVENT
DTSTART:20141024T000000Z
DTEND:20141024T020000Z
X-MICROSOFT-CDO-ALLDAYEVENT:FALSE
SUMMARY:This is the Mixer to Die For!
DESCRIPTION:This is the Mixer to DIE for!!!\n\n\n\nJoin us for light refreshments & appetizers\n\n\n\nDoor Prizes\n\nPrize for the Best Costume (costumes not mandatory)
X-ALT-DESC;FMTTYPE=text/html:This is the Mixer to DIE for!!!<br />\n<br />\nJoin us for light refreshments &amp\; appetizers<br />\n<br />\nDoor Prizes<br />\nPrize for the Best Costume (costumes not mandatory)
LOCATION:Risher Montebello Mortuary and Cremation Service 1316 Whitter Blvd\, Montebello CA 90640
UID:e.1156.1088
SEQUENCE:3
DTSTAMP:20260419T130610Z
URL:https://www.montebellochamber.org/events/details/this-is-the-mixer-to-die-for-10-23-2014-1088
END:VEVENT

END:VCALENDAR
