BEGIN:VCALENDAR
VERSION:2.0
PRODID:-//ChamberMaster//Event Calendar 2.0//EN
METHOD:PUBLISH
X-PUBLISHED-TTL:P3D
REFRESH-INTERVAL:P3D
CALSCALE:GREGORIAN
BEGIN:VEVENT
DTSTART:20180519T003000Z
DTEND:20180519T050000Z
X-MICROSOFT-CDO-ALLDAYEVENT:FALSE
SUMMARY:Totally Awesome 80's
DESCRIPTION:Bosco Tech Music Program Presents\n\nTotally Awesome 80's\n\n\n\nLive at Tech Hall
X-ALT-DESC;FMTTYPE=text/html:<div style="text-align: center\;">Bosco Tech Music Program Presents<br />\nTotally Awesome 80&#39\;s<br />\n<br />\nLive at Tech Hall</div>\n
LOCATION:Tech Hall 1151 San Gabriel Blvd Rosemead\, CA 91770
UID:e.1156.2574
SEQUENCE:3
DTSTAMP:20260419T160029Z
URL:https://www.montebellochamber.org/events/details/totally-awesome-80-s-2574
END:VEVENT

END:VCALENDAR
